BEGIN:VCALENDAR
VERSION:2.0
PRODID:-//wp-events-plugin.com//5.99912//EN
TZID:Europe/Dublin
X-WR-TIMEZONE:Europe/Dublin
BEGIN:VEVENT
UID:161@voxpol.eu
DTSTART;TZID=Europe/London:20260616T000000
DTEND;TZID=Europe/London:20260618T000000
DTSTAMP:20260422T151231Z
URL:https://voxpol.eu/events/terrorism-and-social-media-tasm-conference-20
 26/
SUMMARY:Terrorism and Social Media (TASM) Conference 2026
DESCRIPTION:Terrorism and Social Media (TASM) Conference\nSwansea Universit
 y\, UK\n16-18 June 2026 \nHosted at Swansea University and attended by 25
 0+ delegates from countries around the world\, the TASM Conference is one 
 of the leading international conferences on extremist and terrorist use of
  online platforms. Attended by a wide range of stakeholders\, including t
 ech companies\, governments\, law enforcement\, regulators\, civil society
  and researchers from many different academic disciplines\, the conference
  features keynote presentations from leading experts and a selection of 30
 + breakout sessions featuring 100+ speakers.\n\nTo register and learn more
  about this year's conference\, including keynote speakers and workshops\,
  please see the conference website here.\n\nView TASM 2024 conference high
 lights below:\n\n[embed]https://www.youtube.com/watch?v=Zq0Txg5bEiI&t=3s[/
 embed]
ATTACH;FMTTYPE=image/jpeg:https://voxpol.eu/wp-content/uploads/2026/04/ima
 ge.png
CATEGORIES:Conference
END:VEVENT
BEGIN:VTIMEZONE
TZID:Europe/London
X-LIC-LOCATION:Europe/London
BEGIN:DAYLIGHT
DTSTART:20260329T020000
TZOFFSETFROM:+0000
TZOFFSETTO:+0100
TZNAME:BST
END:DAYLIGHT
END:VTIMEZONE
END:VCALENDAR